BEGIN:VCALENDAR
VERSION:2.0
PRODID:-//Virginia Peninsula Foodbank - ECPv6.15.16//NONSGML v1.0//EN
CALSCALE:GREGORIAN
METHOD:PUBLISH
X-WR-CALNAME:Virginia Peninsula Foodbank
X-ORIGINAL-URL:https://hrfoodbank.org
X-WR-CALDESC:Events for Virginia Peninsula Foodbank
REFRESH-INTERVAL;VALUE=DURATION:PT1H
X-Robots-Tag:noindex
X-PUBLISHED-TTL:PT1H
BEGIN:VTIMEZONE
TZID:UTC
BEGIN:STANDARD
TZOFFSETFROM:+0000
TZOFFSETTO:+0000
TZNAME:UTC
DTSTART:20210101T000000
END:STANDARD
END:VTIMEZONE
BEGIN:VEVENT
DTSTART;TZID=UTC:20241217T133000
DTEND;TZID=UTC:20241217T133000
DTSTAMP:20260423T230023
CREATED:20221122T163739Z
LAST-MODIFIED:20241206T191655Z
UID:1117-1734442200-1734442200@hrfoodbank.org
SUMMARY:Mobile Food Pantry - Joynes
DESCRIPTION:Registration starts at 11am and distribution begins at 1:30pm. Drive-thru food distributions are on a first come first serve basis while supply lasts. Please arrive early. \nWhat to do before visiting the Food Bank or a local food pantry or meal program\nIf you are sick or think you may have been exposed to the coronavirus\, we recommend that you call your doctor or the public health department to ask for guidance prior to visiting. \nWe also recommend that people in need of food assistance call their local food pantry before visiting\, to confirm hours of operation. Distribution plans may change quickly and without much notice. Please use the locator tool below to find where you can get food assistance from one our local food pantry partners. 
URL:https://hrfoodbank.org/event/mobile-food-pantry-5/
LOCATION:Joynes Road COG\, 31 Joynes Rd\, Hampton\, 23666
CATEGORIES:Mobile Food Pantry
END:VEVENT
BEGIN:VEVENT
DTSTART;TZID=UTC:20241216T100000
DTEND;TZID=UTC:20241216T100000
DTSTAMP:20260423T230023
CREATED:20240102T165433Z
LAST-MODIFIED:20241206T191546Z
UID:6044-1734343200-1734343200@hrfoodbank.org
SUMMARY:Mobile Food Pantry - Gethsemane
DESCRIPTION:Registration starts at 7:30 am; Distribution begins at 10am. Drive-thru food distributions are on a first come first serve basis while supply lasts. Please arrive early. \nWhat to do before visiting the Food Bank or a local food pantry or meal program\nIf you are sick or think you may have been exposed to the coronavirus\, we recommend that you call your doctor or the public health department to ask for guidance prior to visiting. \nWe also recommend that people in need of food assistance call their local food pantry before visiting\, to confirm hours of operation. Distribution plans may change quickly and without much notice. Please use the locator tool below to find where you can get food assistance from one our local food pantry partners.  \nStarting in May 2023 and in order to accommodate others in need\, our Mobile Food Pantry Program will return to Pre-Covid practices of providing food for you and your family at ONE location ONCE a month. \nWe are happy for the opportunity to serve you.
URL:https://hrfoodbank.org/event/mobile-food-pantry-gethsemane-2/
LOCATION:Gethsemane Baptist Church\, 5405 Roanoke Ave\, Newport News\, 23605
CATEGORIES:Mobile Food Pantry
END:VEVENT
BEGIN:VEVENT
DTSTART;TZID=UTC:20241005T100000
DTEND;TZID=UTC:20241005T113000
DTSTAMP:20260423T230023
CREATED:20220801T144150Z
LAST-MODIFIED:20240927T130545Z
UID:5231-1728122400-1728127800@hrfoodbank.org
SUMMARY:Mobile Food Pantry — The Mount at Peninsula
DESCRIPTION:Drive-thru food distributions are on a first come first serve basis while supply lasts. Please arrive early. \nWhat to do before visiting the Food Bank or a local food pantry or meal program\nIf you are sick or think you may have been exposed to the coronavirus\, we recommend that you call your doctor or the public health department to ask for guidance prior to visiting. \nWe also recommend that people in need of food assistance call their local food pantry before visiting\, to confirm hours of operation. Distribution plans may change quickly and without much notice. Please use the locator tool below to find where you can get food assistance from one our local food pantry partners.  \n  \n 
URL:https://hrfoodbank.org/event/mobile-food-pantry-the-mount-at-peninsula/
LOCATION:The Mount at Peninsula\, 6406 George Washington Memorial Hwy\, Yorktown\, VA\, 23692\, United States
CATEGORIES:Mobile Food Pantry
END:VEVENT
BEGIN:VEVENT
DTSTART;VALUE=DATE:20240927
DTEND;VALUE=DATE:20240928
DTSTAMP:20260423T230023
CREATED:20220627T163736Z
LAST-MODIFIED:20240927T130343Z
UID:1114-1727395200-1727481599@hrfoodbank.org
SUMMARY:Mobile Food Pantry - Hispanic Resource Center @ West Hampton Baptist Church
DESCRIPTION:Pantry is cancelled due to pending storm. \n  \nDrive-thru food distributions are on a first come first serve basis while supply lasts. Please arrive early. \nWhat to do before visiting the Food Bank or a local food pantry or meal program\nIf you are sick or think you may have been exposed to the coronavirus\, we recommend that you call your doctor or the public health department to ask for guidance prior to visiting. \nWe also recommend that people in need of food assistance call their local food pantry before visiting\, to confirm hours of operation. Distribution plans may change quickly and without much notice. Please use the locator tool below to find where you can get food assistance from one our local food pantry partners. 
URL:https://hrfoodbank.org/event/mobile-food-pantry-3/
LOCATION:West Hampton Baptist Church\, 631 Aberdeen Rd\, Hampton\, VA\, 23661\, United States
CATEGORIES:Mobile Food Pantry
END:VEVENT
BEGIN:VEVENT
DTSTART;TZID=UTC:20240828T100000
DTEND;TZID=UTC:20240828T100000
DTSTAMP:20260423T230023
CREATED:20221122T173651Z
LAST-MODIFIED:20240808T131423Z
UID:5448-1724839200-1724839200@hrfoodbank.org
SUMMARY:Mobile Food Pantry - Hampton Coliseum
DESCRIPTION:Starting in May 2023 in order to accommodate others in need\, our Mobile Food Pantry program will return to Pre-COVID practice of providing food for you and your family at ONE location ONCE a month. \nRegistration starts at 7:30am at location and distribution begins at 10am  \nDrive-thru food distributions are on a first come first serve basis while supply lasts. Please arrive early.  \nWhat to do before visiting the Food Bank or a local food pantry or meal program\nIf you are sick or think you may have been exposed to the coronavirus\, we recommend that you call your doctor or the public health department to ask for guidance prior to visiting. \nWe also recommend that people in need of food assistance call their local food pantry before visiting\, to confirm hours of operation. Distribution plans may change quickly and without much notice. Please use the locator tool below to find where you can get food assistance from one our local food pantry partners. 
URL:https://hrfoodbank.org/event/mobile-food-pantry-hampton-coliseum/
LOCATION:Hampton Coliseum Parking Lot\, 1000 Coliseum Drive\, Hampton\, 23666
CATEGORIES:Mobile Food Pantry
END:VEVENT
BEGIN:VEVENT
DTSTART;TZID=UTC:20240706T090000
DTEND;TZID=UTC:20240706T110000
DTSTAMP:20260423T230023
CREATED:20240528T215518Z
LAST-MODIFIED:20240701T174643Z
UID:6352-1720256400-1720263600@hrfoodbank.org
SUMMARY:Mobile Food Pantry - Harvest Church Farmers Market Pantry
DESCRIPTION:Distribution begins at 9am. Drive-thru food distributions are on a first come first serve basis while supply lasts. Please arrive early. \nWhat to do before visiting the Food Bank or a local food pantry or meal program\nIf you are sick or think you may have been exposed to the coronavirus\, we recommend that you call your doctor or the public health department to ask for guidance prior to visiting. \nWe also recommend that people in need of food assistance call their local food pantry before visiting\, to confirm hours of operation. Distribution plans may change quickly and without much notice. Please use the locator tool below to find where you can get food assistance from one our local food pantry partners.  \n  \nWe are happy for the opportunity to serve you.
URL:https://hrfoodbank.org/event/mobile-food-pantry-harvest-church-farmers-market-pantry/
LOCATION:Harvest Church Pantry\, 5889 Jefferson Ave\, Newport News\, VA\, 23605\, United States
CATEGORIES:Mobile Food Pantry
END:VEVENT
BEGIN:VEVENT
DTSTART;TZID=UTC:20231027T173000
DTEND;TZID=UTC:20231027T190000
DTSTAMP:20260423T230023
CREATED:20230726T152022Z
LAST-MODIFIED:20231013T150129Z
UID:5946-1698427800-1698433200@hrfoodbank.org
SUMMARY:Mobile Food Pantry - Hampton
DESCRIPTION:Drive-thru food distributions are on a first come first serve basis while supply lasts. Please arrive early. \nWhat to do before visiting the Food Bank or a local food pantry or meal program\nIf you are sick or think you may have been exposed to the coronavirus\, we recommend that you call your doctor or the public health department to ask for guidance prior to visiting. \nWe also recommend that people in need of food assistance call their local food pantry before visiting\, to confirm hours of operation. Distribution plans may change quickly and without much notice. Please use the locator tool below to find where you can get food assistance from one our local food pantry partners. 
URL:https://hrfoodbank.org/event/mobile-food-pantry-hampton-2/
LOCATION:West Hampton Baptist Church\, 631 Aberdeen Rd\, Hampton\, VA\, 23661\, United States
CATEGORIES:Mobile Food Pantry
END:VEVENT
BEGIN:VEVENT
DTSTART;TZID=UTC:20230520T090000
DTEND;TZID=UTC:20230520T113000
DTSTAMP:20260423T230023
CREATED:20230508T195208Z
LAST-MODIFIED:20230508T195855Z
UID:5847-1684573200-1684582200@hrfoodbank.org
SUMMARY:Mobile Food Pantry - Triumph Christian Center
DESCRIPTION:Starting in May 2023 in order to accommodate others in need\, our Mobile Food Pantry program will return to Pre-Covid practice of providing food for you and your family at ONE location ONCE a month. \nDrive-thru food distributions are on a first come first serve basis while supply lasts. Please arrive early. \nWhat to do before visiting the Food Bank or a local food pantry or meal program\nIf you are sick or think you may have been exposed to the coronavirus\, we recommend that you call your doctor or the public health department to ask for guidance prior to visiting. \nWe also recommend that people in need of food assistance call their local food pantry before visiting\, to confirm hours of operation. Distribution plans may change quickly and without much notice. Please use the locator tool below to find where you can get food assistance from one our local food pantry partners. 
URL:https://hrfoodbank.org/event/mobile-food-pantry-triumph-christian-center/
LOCATION:Triumph Christian Center Pantry\, 5501 Huntington Ave\, Newport News\, VA\, 23607\, United States
CATEGORIES:Event,Mobile Food Pantry
END:VEVENT
BEGIN:VEVENT
DTSTART;TZID=UTC:20230511T133000
DTEND;TZID=UTC:20230511T133000
DTSTAMP:20260423T230023
CREATED:20221122T120036Z
LAST-MODIFIED:20230511T154128Z
UID:1113-1683811800-1683811800@hrfoodbank.org
SUMMARY:Mobile Food Pantry - First Baptist
DESCRIPTION:Registration starts at 12pm and distribution begins at 1:30pm. Drive-thru food distributions are on a first come first serve basis while supply lasts. Please arrive early. \nWhat to do before visiting the Food Bank or a local food pantry or meal program\nIf you are sick or think you may have been exposed to the coronavirus\, we recommend that you call your doctor or the public health department to ask for guidance prior to visiting. \nWe also recommend that people in need of food assistance call their local food pantry before visiting\, to confirm hours of operation. Distribution plans may change quickly and without much notice. Please use the locator tool below to find where you can get food assistance from one our local food pantry partners.  \nStarting in May 2023 and in order to accommodate others in need\, our Mobile Food Pantry Program will return to Pre-Covid practices of providing food for you and your family at ONE location ONCE a month. \nWe are happy for the opportunity to serve you.
URL:https://hrfoodbank.org/event/1-mobile-food-pantry/
LOCATION:First Baptist Church Newport News\, 12716 Warwick Blvd\, Newport News\, 23606
CATEGORIES:Event,Mobile Food Pantry
END:VEVENT
BEGIN:VEVENT
DTSTART;TZID=UTC:20230123T100000
DTEND;TZID=UTC:20230123T110000
DTSTAMP:20260423T230023
CREATED:20220627T163739Z
LAST-MODIFIED:20240102T164839Z
UID:1120-1674468000-1674471600@hrfoodbank.org
SUMMARY:Mobile Food Pantry - Gethsemane
DESCRIPTION:Drive-thru food distributions are on a first come first serve basis while supply lasts. Please arrive early. \nWhat to do before visiting the Food Bank or a local food pantry or meal program\nIf you are sick or think you may have been exposed to the coronavirus\, we recommend that you call your doctor or the public health department to ask for guidance prior to visiting. \nWe also recommend that people in need of food assistance call their local food pantry before visiting\, to confirm hours of operation. Distribution plans may change quickly and without much notice. Please use the locator tool below to find where you can get food assistance from one our local food pantry partners. 
URL:https://hrfoodbank.org/event/mobile-food-pantry-8/
LOCATION:Gethsemane Baptist Church\, 5405 Roanoke Ave\, Newport News\, 23605
CATEGORIES:Mobile Food Pantry
END:VEVENT
BEGIN:VEVENT
DTSTART;TZID=UTC:20230116T090000
DTEND;TZID=UTC:20230116T130000
DTSTAMP:20260423T230023
CREATED:20230104T212656Z
LAST-MODIFIED:20230104T212656Z
UID:5594-1673859600-1673874000@hrfoodbank.org
SUMMARY:MLK Day of Service Food Drive
DESCRIPTION:The Martin Luther King\, Jr. (MLK) holiday is observed nationally as a day of service in celebration of the civil rights leader’s life and legacy. In honor of MLK Day of Service\, Sheriff Gabe Morgan is continuing the annual MLK Day of Service Food Drive to provide essential support to residents on the Peninsula. On Monday\, January 16\, Sheriff Gabe Morgan will host the annual food/fund drive at the Foodbank\, 2401 Aluminum Avenue\, Hampton. The community is invited to drop off monetary and/or non-perishable food donations between 9am and 1pm. Giving has never been so easy. Drive through and drop off your donations without having to get out of your car. \nYour contributions will strengthen our community by continuing to help others in need. For every dollar donated\, Virginia Peninsula Foodbank can provide three healthy meals to our community members in need. To make a donation on line visit https://www.justgiving.com/campaign/MLKDayOfService23 . \nIf you would like to support this event by collecting non-perishable food items and monetary donations\, we have the supplies to get you started. You may reach out to Christina Bosco\, Community Engagement Coordinator by calling 757.596.7188 or email cbosco@hrfoodbank.org.\n______________________________________________________________________________________________________________________________
URL:https://hrfoodbank.org/event/mlk-day-of-service-food-drive/
LOCATION:Virginia Peninsula Foodbank\, 2401 Aluminum Ave\, Hampton\, VA\, 23661\, United States
ATTACH;FMTTYPE=image/jpeg:https://hrfoodbank.org/wp-content/uploads/mlk-2023-SLIDER.jpg
END:VEVENT
BEGIN:VEVENT
DTSTART;TZID=UTC:20220618T080000
DTEND;TZID=UTC:20220618T170000
DTSTAMP:20260423T230023
CREATED:20220413T112743Z
LAST-MODIFIED:20220413T112743Z
UID:659-1655539200-1655571600@hrfoodbank.org
SUMMARY:Mobile Food Pantry — Williamsburg
DESCRIPTION:Drive-thru food distributions are on a first come first serve basis while supply lasts. Please arrive early. \nWhat to do before visiting the Food Bank or a local food pantry or meal program\nIf you are sick or think you may have been exposed to the coronavirus\, we recommend that you call your doctor or the public health department to ask for guidance prior to visiting. \nWe also recommend that people in need of food assistance call their local food pantry before visiting\, to confirm hours of operation. Distribution plans may change quickly and without much notice. Please use the locator tool below to find where you can get food assistance from one our local food pantry partners. 
URL:https://hrfoodbank.org/event/mobile-food-pantry-williamsburg/
LOCATION:Greater Williamsburg Salvation Army\, 216 Ironbound Road\, Williamsburg
CATEGORIES:Mobile Food Pantry
END:VEVENT
BEGIN:VEVENT
DTSTART;TZID=UTC:20220601T093000
DTEND;TZID=UTC:20220601T170000
DTSTAMP:20260423T230023
CREATED:20220413T112322Z
LAST-MODIFIED:20220413T112350Z
UID:650-1654075800-1654102800@hrfoodbank.org
SUMMARY:Mobile Food Pantry — Hampton
DESCRIPTION:Drive-thru food distributions are on a first come first serve basis while supply lasts. Please arrive early. \nWhat to do before visiting the Food Bank or a local food pantry or meal program\nIf you are sick or think you may have been exposed to the coronavirus\, we recommend that you call your doctor or the public health department to ask for guidance prior to visiting. \nWe also recommend that people in need of food assistance call their local food pantry before visiting\, to confirm hours of operation. Distribution plans may change quickly and without much notice. Please use the locator tool below to find where you can get food assistance from one our local food pantry partners. 
URL:https://hrfoodbank.org/event/mobile-food-pantry-hampton/
LOCATION:Immaculate Conception Catholic Church\, 2150 Cunningham Dr\, Hampton\, 23666
CATEGORIES:Mobile Food Pantry
END:VEVENT
END:VCALENDAR